BEGIN:VCALENDAR
VERSION:2.0
PRODID:-//Kawartha Arts Network - ECPv6.15.17.1//NONSGML v1.0//EN
CALSCALE:GREGORIAN
METHOD:PUBLISH
X-WR-CALNAME:Kawartha Arts Network
X-ORIGINAL-URL:https://kawarthaarts.ca
X-WR-CALDESC:Events for Kawartha Arts Network
REFRESH-INTERVAL;VALUE=DURATION:PT1H
X-Robots-Tag:noindex
X-PUBLISHED-TTL:PT1H
BEGIN:VTIMEZONE
TZID:America/Toronto
BEGIN:DAYLIGHT
TZOFFSETFROM:-0500
TZOFFSETTO:-0400
TZNAME:EDT
DTSTART:20250309T070000
END:DAYLIGHT
BEGIN:STANDARD
TZOFFSETFROM:-0400
TZOFFSETTO:-0500
TZNAME:EST
DTSTART:20251102T060000
END:STANDARD
BEGIN:DAYLIGHT
TZOFFSETFROM:-0500
TZOFFSETTO:-0400
TZNAME:EDT
DTSTART:20260308T070000
END:DAYLIGHT
BEGIN:STANDARD
TZOFFSETFROM:-0400
TZOFFSETTO:-0500
TZNAME:EST
DTSTART:20261101T060000
END:STANDARD
BEGIN:DAYLIGHT
TZOFFSETFROM:-0500
TZOFFSETTO:-0400
TZNAME:EDT
DTSTART:20270314T070000
END:DAYLIGHT
BEGIN:STANDARD
TZOFFSETFROM:-0400
TZOFFSETTO:-0500
TZNAME:EST
DTSTART:20271107T060000
END:STANDARD
BEGIN:DAYLIGHT
TZOFFSETFROM:-0500
TZOFFSETTO:-0400
TZNAME:EDT
DTSTART:20280312T070000
END:DAYLIGHT
BEGIN:STANDARD
TZOFFSETFROM:-0400
TZOFFSETTO:-0500
TZNAME:EST
DTSTART:20281105T060000
END:STANDARD
END:VTIMEZONE
BEGIN:VEVENT
DTSTART;VALUE=DATE:20260101
DTEND;VALUE=DATE:20270103
DTSTAMP:20260425T080413
CREATED:20230108T201028Z
LAST-MODIFIED:20260118T211649Z
UID:29799-1767225600-1798934399@kawarthaarts.ca
SUMMARY:KAN at the Academy
DESCRIPTION:Showing in the Guild Room!\nKAN has entered into an exhibition arrangement with the FLATO Academy Theatre in Lindsay\, with a group show on display in the Guild Room (second floor). Artwork changes up every month and is for sale by contacting us via our email or through the information posted with the show. \nExhibition accessible during box office hours\, shows and by special arrangement.
URL:https://kawarthaarts.ca/event/kan-at-the-academy/
LOCATION:Flato Academy Theatre\, The Guild Room\, 2 Lindsay Street South\, Lindsay\, Ontario\, K9V 2L6
CATEGORIES:Featured Event,Show
ATTACH;FMTTYPE=image/jpeg:https://kawarthaarts.ca/wp-content/uploads/2018/01/KAN-Guild-Room-Academy-Theatre-Williams-Design-Studio-Maple-Sky-Detail.jpg
ORGANIZER;CN="Kawartha Arts Network (KAN)":MAILTO:info@kawarthaarts.ca
END:VEVENT
END:VCALENDAR