BEGIN:VCALENDAR
VERSION:2.0
PRODID:-//Kawartha Arts Network - ECPv6.15.17.1//NONSGML v1.0//EN
CALSCALE:GREGORIAN
METHOD:PUBLISH
X-WR-CALNAME:Kawartha Arts Network
X-ORIGINAL-URL:https://kawarthaarts.ca
X-WR-CALDESC:Events for Kawartha Arts Network
REFRESH-INTERVAL;VALUE=DURATION:PT1H
X-Robots-Tag:noindex
X-PUBLISHED-TTL:PT1H
BEGIN:VTIMEZONE
TZID:America/Toronto
BEGIN:DAYLIGHT
TZOFFSETFROM:-0500
TZOFFSETTO:-0400
TZNAME:EDT
DTSTART:20250309T070000
END:DAYLIGHT
BEGIN:STANDARD
TZOFFSETFROM:-0400
TZOFFSETTO:-0500
TZNAME:EST
DTSTART:20251102T060000
END:STANDARD
BEGIN:DAYLIGHT
TZOFFSETFROM:-0500
TZOFFSETTO:-0400
TZNAME:EDT
DTSTART:20260308T070000
END:DAYLIGHT
BEGIN:STANDARD
TZOFFSETFROM:-0400
TZOFFSETTO:-0500
TZNAME:EST
DTSTART:20261101T060000
END:STANDARD
BEGIN:DAYLIGHT
TZOFFSETFROM:-0500
TZOFFSETTO:-0400
TZNAME:EDT
DTSTART:20270314T070000
END:DAYLIGHT
BEGIN:STANDARD
TZOFFSETFROM:-0400
TZOFFSETTO:-0500
TZNAME:EST
DTSTART:20271107T060000
END:STANDARD
END:VTIMEZONE
BEGIN:VEVENT
DTSTART;TZID=America/Toronto:20260926T130000
DTEND;TZID=America/Toronto:20260926T150000
DTSTAMP:20260425T080023
CREATED:20260206T160441Z
LAST-MODIFIED:20260312T165604Z
UID:33012-1790427600-1790434800@kawarthaarts.ca
SUMMARY:Children’s Picasso Masks
DESCRIPTION:Do you like to make funky and unusual things? This workshop is for children who want to learn about what made Pablo Picasso so famous\, why his work is so unusual\, about abstract art\, and what we can learn and use in our own art. We will look at some of Picasso’s pieces and play a game to learn more about his style. The majority of our time will be spent creating our own large (approximately 2-foot x 1.5-foot) Picasso-inspired face. We will use cardboard\, oil and/or chalk pastels\, and learn some 3-D tricks for our masterpieces. \n			\n				\n				\n				\n				\n				\n					\n					\n						Class:\n						Age: 8 – 12Maximum size: 8Available seats: 7 \nWe do accept names for a waiting list. \n					\n				\n			\n				\n				\n				\n				\n				\n					\n					\n						Cost:\n						Members: $40Non-members: $40 \n					\n				\n			\n				\n				\n				\n				\n				\n					l\n					\n						Materials:\n						Materials Fee: $10 includes everything required plus a handout package. \n					\n				\n			\n				\n				\n				\n				\n				\n					\n					\n						Artist: Stephanie Katrina\n						Stephanie Katrina‘s mixed media collage pieces are known for their rich visual textures that mimic the experience of looking closely at nature. Her lifelong love of exuberant creation celebrates \nInstagram: @stephaniekart \nShe may be reached at: StephanieKatrina.art@gmail.com \n					\n				\n			\n			\n				\n				\n				\n				\n			\n				\n				\n				\n				\n				\n				\n				\n					\n					\n					\n				\n				\n					\n					\n					\n				\n				\n			\n				\n				\n				\n				\n			\n				\n				\n			\n				\n				\n				\n				\n				\n				\n				\n				\n				\n				\n				\n				\n				\n				\n				\n				\n				\n				\n					\n					\n						Payment:\n						Please enable JavaScript in your browser to complete this form.Name *Phone *Email *Already a Member? *YesNoNo\, but please include a membership  with my registration		\n			($CDN) remaining Certificate\n			\n		\n		Membership Fees *Adult - $45.00Student (proof required) - $25.00KAN Member Class Pricing *Life Drawing - Spring - $128.00Botanical Drawing - $75.00Nature's Elements - $70.00Scratchboard: Beginner - $70.00Acrylic Mediums Demo - $35.00Children’s Palette Knife Art - $40.00Beginner Acrylics - $70.00Colour Mixing & Matching - Spring - $50.00Beginner Watercolours - $70.00Drawing with Black Marker - $50.00Collage Play - $70.00Charcoal Portraiture - $70.00Hot Wax Encaustic - $70.00Watercolours Beyond Basics - $70.00Colour Mixing & Matching - Fall - $50.00Children’s Picasso Masks - $40.00Beginner Oils - $70.00Pastels Beyond Basics - $70.00Intermediate Scratchboard - $70.00Drawing Basics - $70.00KAN Non-Member Class Pricing *Life Drawing - Spring - $144.00Botanical Drawing - $85.00Nature's Elements - $80.00Scratchboard: Beginner - $80.00Acrylic Mediums Demo - $40.00Children’s Palette Knife Art - $40.00Beginner Acrylics - $80.00Colour Mixing & Matching - Spring - $60.00Beginner Watercolours - $80.00Drawing with Black Marker - $60.00Collage Play - $80.00Charcoal Portraiture - $80.00Hot Wax Encaustic - $80.00Watercolous Beyond Basics - $80.00Colour Mixing & Matching - Fall - $60.00Children’s Picasso Masks - $40.00Beginner Oils - $80.00Pastels Beyond Basics - $80.00Intermediate Scratchboard - $80.00Drawing Basics - $80.00Total ($CDN)$0.00 How will you be paying? *e-transfer: info@kawarthaarts.caBy cheque/mail: Kawartha Arts Network -  125 Albert Street North\, Lindsay\, Ontario K9V 5T1Credit CardGift Certificate (partial or full)Credit Card *CardName on CardGift Certificate Amount *Gift Certificate Number *Outstanding balance? *NoYesAmount to remaining to be paid: * How will you be paying? *e-transfer: info@kawarthaarts.caBy cheque/mail: Kawartha Arts Network -  632 Janetville Rd. Janetville\, Ontario L0B 1K0Submit
URL:https://kawarthaarts.ca/event/childrens-picasso-masks/
LOCATION:Ampere Makerspace Kawartha Lakes\, 12 Peel Street\, Lindsay\, Ontario\, K9V 3L8
CATEGORIES:Class
ATTACH;FMTTYPE=image/jpeg:https://kawarthaarts.ca/wp-content/uploads/2026/02/KAN-Class-2026-Kids-picasso-feature.jpg
ORGANIZER;CN="Kawartha Arts Network (KAN)":MAILTO:info@kawarthaarts.ca
END:VEVENT
END:VCALENDAR