BEGIN:VCALENDAR
VERSION:2.0
PRODID:-//Kawartha Arts Network - ECPv6.15.17.1//NONSGML v1.0//EN
CALSCALE:GREGORIAN
METHOD:PUBLISH
X-WR-CALNAME:Kawartha Arts Network
X-ORIGINAL-URL:https://kawarthaarts.ca
X-WR-CALDESC:Events for Kawartha Arts Network
REFRESH-INTERVAL;VALUE=DURATION:PT1H
X-Robots-Tag:noindex
X-PUBLISHED-TTL:PT1H
BEGIN:VTIMEZONE
TZID:America/Toronto
BEGIN:DAYLIGHT
TZOFFSETFROM:-0500
TZOFFSETTO:-0400
TZNAME:EDT
DTSTART:20250309T070000
END:DAYLIGHT
BEGIN:STANDARD
TZOFFSETFROM:-0400
TZOFFSETTO:-0500
TZNAME:EST
DTSTART:20251102T060000
END:STANDARD
BEGIN:DAYLIGHT
TZOFFSETFROM:-0500
TZOFFSETTO:-0400
TZNAME:EDT
DTSTART:20260308T070000
END:DAYLIGHT
BEGIN:STANDARD
TZOFFSETFROM:-0400
TZOFFSETTO:-0500
TZNAME:EST
DTSTART:20261101T060000
END:STANDARD
BEGIN:DAYLIGHT
TZOFFSETFROM:-0500
TZOFFSETTO:-0400
TZNAME:EDT
DTSTART:20270314T070000
END:DAYLIGHT
BEGIN:STANDARD
TZOFFSETFROM:-0400
TZOFFSETTO:-0500
TZNAME:EST
DTSTART:20271107T060000
END:STANDARD
END:VTIMEZONE
BEGIN:VEVENT
DTSTART;TZID=America/Toronto:20260530T100000
DTEND;TZID=America/Toronto:20260530T153000
DTSTAMP:20260425T080546
CREATED:20260128T182621Z
LAST-MODIFIED:20260206T200549Z
UID:32899-1780135200-1780155000@kawarthaarts.ca
SUMMARY:Beginner Watercolours
DESCRIPTION:Are you ready for your first adventure with watercolours? Join us! Watercolour is a wonderful media with brilliance and clarity. You will learn the basics\, including paint mixing\, water control\, and brush control. Emily will provide demonstrations and you will have time to explore and practise before Emily guides you through the process step-by-step\, from a simple sketch to a completed painting of a fall hillside landscape. Please note this class is designed for absolute beginners. \n			\n				\n				\n				\n				\n				\n					\n					\n						Class:\n						Level: BeginnerMaximum size: 10Available seats: 0 \nClass is full but we do accept names for a waiting list. \n					\n				\n			\n				\n				\n				\n				\n				\n					\n					\n						Cost:\n						Members: $70Non-members: $80 \n					\n				\n			\n				\n				\n				\n				\n				\n					l\n					\n						Materials:\n						Materials Fee: $25Bring to Class: Two medium-size jars\, paper towels\, painter’s tape (green or blue). \n					\n				\n			\n				\n				\n				\n				\n				\n					\n					\n						Artist: Emily Strange\n						Emily Strange has studied at the Haliburton School of Art & Design. She tutors in watercolours and is a member of the Kawartha Arts Network. \n					\n				\n			\n			\n				\n				\n				\n				\n			\n				\n				\n				\n				\n				\n				\n				\n					\n					\n					\n				\n				\n			\n				\n				\n				\n				\n			\n				\n				\n			\n				\n				\n				\n				\n				\n				\n				\n				\n				\n				\n				\n				\n				\n				\n				\n				\n				\n				\n					\n					\n						Payment:\n						Please enable JavaScript in your browser to complete this form.Name *Phone *Email *Already a Member? *YesNoNo\, but please include a membership  with my registrationMembership Fees *Adult - $45.00Student (proof required) - $25.00KAN Member Class Pricing *Life Drawing - Spring - $128.00Botanical Drawing - $75.00Nature's Elements - $70.00Scratchboard: Beginner - $70.00Acrylic Mediums Demo - $35.00Children’s Palette Knife Art - $40.00Beginner Acrylics - $70.00Colour Mixing & Matching - Spring - $50.00Beginner Watercolours - $70.00Drawing with Black Marker - $50.00Collage Play - $70.00Charcoal Portraiture - $70.00Hot Wax Encaustic - $70.00Watercolours Beyond Basics - $70.00Colour Mixing & Matching - Fall - $50.00Children’s Picasso Masks - $40.00Beginner Oils - $70.00Pastels Beyond Basics - $70.00Intermediate Scratchboard - $70.00Drawing Basics - $70.00KAN Non-Member Class Pricing *Life Drawing - Spring - $144.00Botanical Drawing - $85.00Nature's Elements - $80.00Scratchboard: Beginner - $80.00Acrylic Mediums Demo - $40.00Children’s Palette Knife Art - $40.00Beginner Acrylics - $80.00Colour Mixing & Matching - Spring - $60.00Beginner Watercolours - $80.00Drawing with Black Marker - $60.00Collage Play - $80.00Charcoal Portraiture - $80.00Hot Wax Encaustic - $80.00Watercolous Beyond Basics - $80.00Colour Mixing & Matching - Fall - $60.00Children’s Picasso Masks - $40.00Beginner Oils - $80.00Pastels Beyond Basics - $80.00Intermediate Scratchboard - $80.00Drawing Basics - $80.00Total ($CDN)$0.00 How will you be paying? *e-transfer: info@kawarthaarts.caBy cheque/mail: Kawartha Arts Network -  125 Albert Street North\, Lindsay\, Ontario K9V 5T1Credit CardGift Certificate (partial or full)		\n			Member?  ($CDN)\n			\n		\n		Credit Card *CardName on CardGift Certificate Amount *Gift Certificate Number *Outstanding balance? *NoYesAmount to remaining to be paid: * How will you be paying? *e-transfer: info@kawarthaarts.caBy cheque/mail: Kawartha Arts Network -  632 Janetville Rd. Janetville\, Ontario L0B 1K0Submit
URL:https://kawarthaarts.ca/event/beginner-watercolours-2026/
LOCATION:Manilla Community Hall\, 16990 Simcoe Street\, Manilla\, Ontario\, L0C 1H0\, Canada
CATEGORIES:Class
ATTACH;FMTTYPE=image/jpeg:https://kawarthaarts.ca/wp-content/uploads/2026/01/KAN-Class-2026-Beginner-Watercolours-feature.jpg
ORGANIZER;CN="Kawartha Arts Network (KAN)":MAILTO:info@kawarthaarts.ca
END:VEVENT
END:VCALENDAR