BEGIN:VCALENDAR
VERSION:2.0
PRODID:-//Kawartha Arts Network - ECPv6.15.17.1//NONSGML v1.0//EN
CALSCALE:GREGORIAN
METHOD:PUBLISH
X-WR-CALNAME:Kawartha Arts Network
X-ORIGINAL-URL:https://kawarthaarts.ca
X-WR-CALDESC:Events for Kawartha Arts Network
REFRESH-INTERVAL;VALUE=DURATION:PT1H
X-Robots-Tag:noindex
X-PUBLISHED-TTL:PT1H
BEGIN:VTIMEZONE
TZID:America/Toronto
BEGIN:DAYLIGHT
TZOFFSETFROM:-0500
TZOFFSETTO:-0400
TZNAME:EDT
DTSTART:20250309T070000
END:DAYLIGHT
BEGIN:STANDARD
TZOFFSETFROM:-0400
TZOFFSETTO:-0500
TZNAME:EST
DTSTART:20251102T060000
END:STANDARD
BEGIN:DAYLIGHT
TZOFFSETFROM:-0500
TZOFFSETTO:-0400
TZNAME:EDT
DTSTART:20260308T070000
END:DAYLIGHT
BEGIN:STANDARD
TZOFFSETFROM:-0400
TZOFFSETTO:-0500
TZNAME:EST
DTSTART:20261101T060000
END:STANDARD
BEGIN:DAYLIGHT
TZOFFSETFROM:-0500
TZOFFSETTO:-0400
TZNAME:EDT
DTSTART:20270314T070000
END:DAYLIGHT
BEGIN:STANDARD
TZOFFSETFROM:-0400
TZOFFSETTO:-0500
TZNAME:EST
DTSTART:20271107T060000
END:STANDARD
END:VTIMEZONE
BEGIN:VEVENT
DTSTART;TZID=America/Toronto:20261003T100000
DTEND;TZID=America/Toronto:20261003T153000
DTSTAMP:20260425T075822
CREATED:20250111T221604Z
LAST-MODIFIED:20260206T175310Z
UID:32090-1791021600-1791041400@kawarthaarts.ca
SUMMARY:Beginner Oils
DESCRIPTION:Are you ready to start a journey with oil painting? Whether you’re an absolute beginner or just looking to explore a new creative outlet\, all are welcome. \nUsing the wet-on-wet technique\, you’ll create a stunning landscape to capture nature’s beauty. You’ll learn how to blend\, layer\, and shape oil paints directly on the canvas\, turning your vision into a masterpiece. With step-by-step guidance\, essential tips\, and helpful tricks\, this class makes working with this versatile medium approachable\, fun\, and deeply rewarding. \n			\n				\n				\n				\n				\n				\n					\n					\n						Class:\n						Level: Beginner \nMaximum size: 10Available seats: 10 \nWe do accept names for a waiting list. \n					\n				\n			\n				\n				\n				\n				\n				\n					\n					\n						Cost:\n						Members: $70Non-members: $80 \n					\n				\n			\n				\n				\n				\n				\n				\n					l\n					\n						Materials:\n						Materials Fee: $25 includes everything requiredBring to Class: Please wear old clothes \n					\n				\n			\n				\n				\n				\n				\n				\n					\n					\n						Artist: Amber Hill\n						Amber Hill is an artist and teacher from Orillia. Nature has been Amber’s biggest inspiration. She transitioned from acrylics to oils when she realized she was drawn to working with the slower drying time of oils and the depth they can bring to her work. She has lots of tips and tricks to share with beginner oil painters\, things she wished she had known when she started her own journey with oils. \n					\n				\n			\n			\n				\n				\n				\n				\n			\n				\n				\n				\n				\n				\n				\n				\n					\n					\n					\n				\n				\n			\n				\n				\n				\n				\n			\n				\n				\n			\n				\n				\n				\n				\n				\n				\n				\n				\n				\n				\n				\n				\n				\n				\n				\n				\n				\n				\n					l\n					\n						Payment:\n						Please enable JavaScript in your browser to complete this form.Name *Phone *Email *Already a Member? *YesNoNo\, but please include a membership  with my registrationMembership Fees *Adult - $45.00Student (proof required) - $25.00KAN Member Class Pricing *Life Drawing - Spring - $128.00Botanical Drawing - $75.00Nature's Elements - $70.00Scratchboard: Beginner - $70.00Acrylic Mediums Demo - $35.00Children’s Palette Knife Art - $40.00Beginner Acrylics - $70.00Colour Mixing & Matching - Spring - $50.00Beginner Watercolours - $70.00Drawing with Black Marker - $50.00Collage Play - $70.00Charcoal Portraiture - $70.00Hot Wax Encaustic - $70.00Watercolours Beyond Basics - $70.00Colour Mixing & Matching - Fall - $50.00Children’s Picasso Masks - $40.00Beginner Oils - $70.00Pastels Beyond Basics - $70.00Intermediate Scratchboard - $70.00Drawing Basics - $70.00KAN Non-Member Class Pricing *Life Drawing - Spring - $144.00Botanical Drawing - $85.00Nature's Elements - $80.00Scratchboard: Beginner - $80.00Acrylic Mediums Demo - $40.00Children’s Palette Knife Art - $40.00Beginner Acrylics - $80.00Colour Mixing & Matching - Spring - $60.00Beginner Watercolours - $80.00Drawing with Black Marker - $60.00Collage Play - $80.00Charcoal Portraiture - $80.00Hot Wax Encaustic - $80.00Watercolous Beyond Basics - $80.00Colour Mixing & Matching - Fall - $60.00Children’s Picasso Masks - $40.00Beginner Oils - $80.00Pastels Beyond Basics - $80.00Intermediate Scratchboard - $80.00Drawing Basics - $80.00Total ($CDN)$0.00 How will you be paying? *e-transfer: info@kawarthaarts.caBy cheque/mail: Kawartha Arts Network -  125 Albert Street North\, Lindsay\, Ontario K9V 5T1Credit CardGift Certificate (partial or full)Credit Card *CardName on CardGift Certificate Amount *Gift Certificate Number *		\n			remaining Name paid:\n			\n		\n		Outstanding balance? *NoYesAmount to remaining to be paid: * How will you be paying? *e-transfer: info@kawarthaarts.caBy cheque/mail: Kawartha Arts Network -  632 Janetville Rd. Janetville\, Ontario L0B 1K0Submit
URL:https://kawarthaarts.ca/event/beginner-oils/
LOCATION:Manilla Community Hall\, 16990 Simcoe Street\, Manilla\, Ontario\, L0C 1H0\, Canada
CATEGORIES:Class
ATTACH;FMTTYPE=image/jpeg:https://kawarthaarts.ca/wp-content/uploads/2025/01/KAN-Class-Oils-Beginners-Amber-Hill-Feature.jpeg.jpg
END:VEVENT
END:VCALENDAR