BEGIN:VCALENDAR
VERSION:2.0
PRODID:-//Kawartha Arts Network - ECPv6.15.17.1//NONSGML v1.0//EN
CALSCALE:GREGORIAN
METHOD:PUBLISH
X-WR-CALNAME:Kawartha Arts Network
X-ORIGINAL-URL:https://kawarthaarts.ca
X-WR-CALDESC:Events for Kawartha Arts Network
REFRESH-INTERVAL;VALUE=DURATION:PT1H
X-Robots-Tag:noindex
X-PUBLISHED-TTL:PT1H
BEGIN:VTIMEZONE
TZID:America/Toronto
BEGIN:DAYLIGHT
TZOFFSETFROM:-0500
TZOFFSETTO:-0400
TZNAME:EDT
DTSTART:20250309T070000
END:DAYLIGHT
BEGIN:STANDARD
TZOFFSETFROM:-0400
TZOFFSETTO:-0500
TZNAME:EST
DTSTART:20251102T060000
END:STANDARD
BEGIN:DAYLIGHT
TZOFFSETFROM:-0500
TZOFFSETTO:-0400
TZNAME:EDT
DTSTART:20260308T070000
END:DAYLIGHT
BEGIN:STANDARD
TZOFFSETFROM:-0400
TZOFFSETTO:-0500
TZNAME:EST
DTSTART:20261101T060000
END:STANDARD
BEGIN:DAYLIGHT
TZOFFSETFROM:-0500
TZOFFSETTO:-0400
TZNAME:EDT
DTSTART:20270314T070000
END:DAYLIGHT
BEGIN:STANDARD
TZOFFSETFROM:-0400
TZOFFSETTO:-0500
TZNAME:EST
DTSTART:20271107T060000
END:STANDARD
END:VTIMEZONE
BEGIN:VEVENT
DTSTART;TZID=America/Toronto:20261107T103000
DTEND;TZID=America/Toronto:20261107T160000
DTSTAMP:20260425T074739
CREATED:20250112T183656Z
LAST-MODIFIED:20260209T174220Z
UID:32214-1794047400-1794067200@kawarthaarts.ca
SUMMARY:Basic Drawing
DESCRIPTION:Whatever visual art you are drawn to\, drawing is at the root of them all. It’s an invaluable skill for any artist to have. This class will help you take your flat\, static\, lifeless drawings and give them volume\, depth\, weight\, and energy. Topics covered in this class will include perspective\, shading\, line-of-action\, and proportions with an emphasis on not just how to draw\, but how to think when you draw. \n			\n				\n				\n				\n				\n				\n					\n					\n						Class:\n						Level: BeginnerMaximum size: 8Available seats: 8 \nWe do accept names for a waiting list. \n					\n				\n			\n				\n				\n				\n				\n				\n					\n					\n						Cost:\n						Members: $70Non-members: $80 \n					\n				\n			\n				\n				\n				\n				\n				\n					l\n					\n						Materials:\n						Bring to class: \n\nwhite eraser\nkneaded eraser\n12” ruler\n9”x12” sketchbook (preferably Canson or Strathmore)\npencils: 2H\, HB\, 2B\, 4B\npencil sharpener\nblending stump\nwhite cotton gloves (optional)\n\n					\n				\n			\n				\n				\n				\n				\n				\n					\n					\n						Artist: Markus Leydolt\n						Markus is a longtime member of Kawartha Arts Network. \nView more of Markus Leydolt’s artwork. \n					\n				\n			\n			\n				\n				\n				\n				\n			\n				\n				\n				\n				\n				\n				\n				\n					\n					\n					\n				\n				\n					\n					\n					\n				\n				\n			\n				\n				\n				\n				\n			\n				\n				\n			\n				\n				\n				\n				\n				\n				\n				\n				\n				\n				\n				\n				\n				\n				\n				\n				\n				\n				\n					\n					\n						Payment:\n						Please enable JavaScript in your browser to complete this form.Name *Phone *Email *Already a Member? *YesNoNo\, but please include a membership  with my registrationMembership Fees *Adult - $45.00Student (proof required) - $25.00KAN Member Class Pricing *Life Drawing - Spring - $128.00Botanical Drawing - $75.00Nature's Elements - $70.00Scratchboard: Beginner - $70.00Acrylic Mediums Demo - $35.00Children’s Palette Knife Art - $40.00Beginner Acrylics - $70.00Colour Mixing & Matching - Spring - $50.00Beginner Watercolours - $70.00Drawing with Black Marker - $50.00Collage Play - $70.00Charcoal Portraiture - $70.00Hot Wax Encaustic - $70.00Watercolours Beyond Basics - $70.00Colour Mixing & Matching - Fall - $50.00Children’s Picasso Masks - $40.00Beginner Oils - $70.00Pastels Beyond Basics - $70.00Intermediate Scratchboard - $70.00Drawing Basics - $70.00KAN Non-Member Class Pricing *Life Drawing - Spring - $144.00Botanical Drawing - $85.00Nature's Elements - $80.00Scratchboard: Beginner - $80.00Acrylic Mediums Demo - $40.00Children’s Palette Knife Art - $40.00Beginner Acrylics - $80.00Colour Mixing & Matching - Spring - $60.00Beginner Watercolours - $80.00Drawing with Black Marker - $60.00Collage Play - $80.00Charcoal Portraiture - $80.00Hot Wax Encaustic - $80.00Watercolous Beyond Basics - $80.00Colour Mixing & Matching - Fall - $60.00Children’s Picasso Masks - $40.00Beginner Oils - $80.00Pastels Beyond Basics - $80.00Intermediate Scratchboard - $80.00Drawing Basics - $80.00Total ($CDN)$0.00 How will you be paying? *e-transfer: info@kawarthaarts.caBy cheque/mail: Kawartha Arts Network -  125 Albert Street North\, Lindsay\, Ontario K9V 5T1Credit CardGift Certificate (partial or full)Credit Card *CardName on CardGift Certificate Amount *Gift Certificate Number *Outstanding balance? *NoYes		\n			Phone you How\n			\n		\n		Amount to remaining to be paid: * How will you be paying? *e-transfer: info@kawarthaarts.caBy cheque/mail: Kawartha Arts Network -  632 Janetville Rd. Janetville\, Ontario L0B 1K0Submit
URL:https://kawarthaarts.ca/event/basic-drawing/
LOCATION:Colborne Street Gallery\, Fenelon Falls\, 36 Colborne Street\, Fenelon Falls\, Ontario\, K0M 1N0\, Canada
CATEGORIES:Class
ATTACH;FMTTYPE=image/jpeg:https://kawarthaarts.ca/wp-content/uploads/2025/01/KAN-Class-2026-Basic-Drawing-2026-feature.jpg
END:VEVENT
END:VCALENDAR